BEGIN:VCALENDAR
PRODID:-//eluceo/ical//2.0/EN
VERSION:2.0
CALSCALE:GREGORIAN
BEGIN:VEVENT
UID:dea40c41052623e2fdfd1c0218d7d288
DTSTAMP:20260425T153155Z
SUMMARY:Slepice
DTSTART;TZID=Europe/Prague:20260501T134500
DTEND;TZID=Europe/Prague:20260501T152100
LOCATION:Kino Světozor
END:VEVENT
END:VCALENDAR
BEGIN:VCALENDAR
PRODID:-//eluceo/ical//2.0/EN
VERSION:2.0
CALSCALE:GREGORIAN
BEGIN:VEVENT
UID:6e67964c9a08df4bb6700217d3fdc6ca
DTSTAMP:20260425T153155Z
SUMMARY:Slepice
DTSTART;TZID=Europe/Prague:20260501T134500
DTEND;TZID=Europe/Prague:20260501T152100
LOCATION:Kino Světozor
END:VEVENT
END:VCALENDAR
