BEGIN:VCALENDAR
PRODID:-//eluceo/ical//2.0/EN
VERSION:2.0
CALSCALE:GREGORIAN
BEGIN:VEVENT
UID:9996c2eba595ac3eeb08b2c0b4fafbe9
DTSTAMP:20260425T152827Z
SUMMARY:Slepice
DTSTART;TZID=Europe/Prague:20260505T173000
DTEND;TZID=Europe/Prague:20260505T190600
LOCATION:Kino Světozor
END:VEVENT
END:VCALENDAR
BEGIN:VCALENDAR
PRODID:-//eluceo/ical//2.0/EN
VERSION:2.0
CALSCALE:GREGORIAN
BEGIN:VEVENT
UID:14f1e7004de660ea6defdbcae0379e98
DTSTAMP:20260425T152827Z
SUMMARY:Slepice
DTSTART;TZID=Europe/Prague:20260505T173000
DTEND;TZID=Europe/Prague:20260505T190600
LOCATION:Kino Světozor
END:VEVENT
END:VCALENDAR
