BEGIN:VCALENDAR
PRODID:-//eluceo/ical//2.0/EN
VERSION:2.0
CALSCALE:GREGORIAN
BEGIN:VEVENT
UID:e116049c299f0b7a234db67fe490a52c
DTSTAMP:20260425T152528Z
SUMMARY:Slepice
DTSTART;TZID=Europe/Prague:20260506T180000
DTEND;TZID=Europe/Prague:20260506T193600
LOCATION:Kino Světozor
END:VEVENT
END:VCALENDAR
BEGIN:VCALENDAR
PRODID:-//eluceo/ical//2.0/EN
VERSION:2.0
CALSCALE:GREGORIAN
BEGIN:VEVENT
UID:32bd820b44864bf4c54596e4861c9311
DTSTAMP:20260425T152528Z
SUMMARY:Slepice
DTSTART;TZID=Europe/Prague:20260506T180000
DTEND;TZID=Europe/Prague:20260506T193600
LOCATION:Kino Světozor
END:VEVENT
END:VCALENDAR
