BEGIN:VCALENDAR
PRODID:-//eluceo/ical//2.0/EN
VERSION:2.0
CALSCALE:GREGORIAN
BEGIN:VEVENT
UID:a2fc2727bb40eac2ecae884498c7357c
DTSTAMP:20260425T154707Z
SUMMARY:Kill Bill: The Whole Bloody Affair
DTSTART;TZID=Europe/Prague:20260501T183000
DTEND;TZID=Europe/Prague:20260501T230500
LOCATION:Kino Světozor
END:VEVENT
END:VCALENDAR
BEGIN:VCALENDAR
PRODID:-//eluceo/ical//2.0/EN
VERSION:2.0
CALSCALE:GREGORIAN
BEGIN:VEVENT
UID:a0cf4d01cb759d5ba75a659176ede49e
DTSTAMP:20260425T154707Z
SUMMARY:Kill Bill: The Whole Bloody Affair
DTSTART;TZID=Europe/Prague:20260501T183000
DTEND;TZID=Europe/Prague:20260501T230500
LOCATION:Kino Světozor
END:VEVENT
END:VCALENDAR
