BEGIN:VCALENDAR
PRODID:-//eluceo/ical//2.0/EN
VERSION:2.0
CALSCALE:GREGORIAN
BEGIN:VEVENT
UID:d737622aa17be4fbfcff7aa798589c0c
DTSTAMP:20260425T154425Z
SUMMARY:Kill Bill: The Whole Bloody Affair
DTSTART;TZID=Europe/Prague:20260502T181500
DTEND;TZID=Europe/Prague:20260502T225000
LOCATION:Kino Světozor
END:VEVENT
END:VCALENDAR
BEGIN:VCALENDAR
PRODID:-//eluceo/ical//2.0/EN
VERSION:2.0
CALSCALE:GREGORIAN
BEGIN:VEVENT
UID:c6c233e0923df410eae343cf53206876
DTSTAMP:20260425T154425Z
SUMMARY:Kill Bill: The Whole Bloody Affair
DTSTART;TZID=Europe/Prague:20260502T181500
DTEND;TZID=Europe/Prague:20260502T225000
LOCATION:Kino Světozor
END:VEVENT
END:VCALENDAR
