BEGIN:VCALENDAR
PRODID:-//eluceo/ical//2.0/EN
VERSION:2.0
CALSCALE:GREGORIAN
BEGIN:VEVENT
UID:1770a18401be2d02bd06b79b7102b2e4
DTSTAMP:20260423T192740Z
SUMMARY:Pan Nikdo proti Putinovi
DTSTART;TZID=Europe/Prague:20260503T130000
DTEND;TZID=Europe/Prague:20260503T143000
LOCATION:Kino Světozor
END:VEVENT
END:VCALENDAR
BEGIN:VCALENDAR
PRODID:-//eluceo/ical//2.0/EN
VERSION:2.0
CALSCALE:GREGORIAN
BEGIN:VEVENT
UID:78288e9cc6ca4585605531673ac49fe8
DTSTAMP:20260423T192740Z
SUMMARY:Pan Nikdo proti Putinovi
DTSTART;TZID=Europe/Prague:20260503T130000
DTEND;TZID=Europe/Prague:20260503T143000
LOCATION:Kino Světozor
END:VEVENT
END:VCALENDAR
