BEGIN:VCALENDAR
PRODID:-//eluceo/ical//2.0/EN
VERSION:2.0
CALSCALE:GREGORIAN
BEGIN:VEVENT
UID:2cd0bcd62f581afdd376f9f5279b85e6
DTSTAMP:20260423T172459Z
SUMMARY:Neděle
DTSTART;TZID=Europe/Prague:20260503T174500
DTEND;TZID=Europe/Prague:20260503T194000
LOCATION:Kino Světozor
END:VEVENT
END:VCALENDAR
BEGIN:VCALENDAR
PRODID:-//eluceo/ical//2.0/EN
VERSION:2.0
CALSCALE:GREGORIAN
BEGIN:VEVENT
UID:8517f3f5979f88b2cd060f7b549a39d8
DTSTAMP:20260423T172459Z
SUMMARY:Neděle
DTSTART;TZID=Europe/Prague:20260503T174500
DTEND;TZID=Europe/Prague:20260503T194000
LOCATION:Kino Světozor
END:VEVENT
END:VCALENDAR
