BEGIN:VCALENDAR
PRODID:-//eluceo/ical//2.0/EN
VERSION:2.0
CALSCALE:GREGORIAN
BEGIN:VEVENT
UID:2d0401e0c6309d6595515e102ff11eb4
DTSTAMP:20260425T193346Z
SUMMARY:Ďábel nosí Pradu 2
DTSTART;TZID=Europe/Prague:20260430T150000
DTEND;TZID=Europe/Prague:20260430T170000
LOCATION:Kino Světozor
END:VEVENT
END:VCALENDAR
BEGIN:VCALENDAR
PRODID:-//eluceo/ical//2.0/EN
VERSION:2.0
CALSCALE:GREGORIAN
BEGIN:VEVENT
UID:5a1dd472d116f99e2b4e608ea5840529
DTSTAMP:20260425T193346Z
SUMMARY:Ďábel nosí Pradu 2
DTSTART;TZID=Europe/Prague:20260430T150000
DTEND;TZID=Europe/Prague:20260430T170000
LOCATION:Kino Světozor
END:VEVENT
END:VCALENDAR
