BEGIN:VCALENDAR
PRODID:-//eluceo/ical//2.0/EN
VERSION:2.0
CALSCALE:GREGORIAN
BEGIN:VEVENT
UID:695a6bc7b34daef2cf5de5730ce9cd49
DTSTAMP:20260425T193047Z
SUMMARY:Ďábel nosí Pradu 2
DTSTART;TZID=Europe/Prague:20260501T123000
DTEND;TZID=Europe/Prague:20260501T143000
LOCATION:Kino Světozor
END:VEVENT
END:VCALENDAR
BEGIN:VCALENDAR
PRODID:-//eluceo/ical//2.0/EN
VERSION:2.0
CALSCALE:GREGORIAN
BEGIN:VEVENT
UID:9ca332921edca192246d1c563fb576af
DTSTAMP:20260425T193047Z
SUMMARY:Ďábel nosí Pradu 2
DTSTART;TZID=Europe/Prague:20260501T123000
DTEND;TZID=Europe/Prague:20260501T143000
LOCATION:Kino Světozor
END:VEVENT
END:VCALENDAR
