BEGIN:VCALENDAR
PRODID:-//eluceo/ical//2.0/EN
VERSION:2.0
CALSCALE:GREGORIAN
BEGIN:VEVENT
UID:a4437ba1f0d43f6909d018a9977d1e51
DTSTAMP:20260425T192943Z
SUMMARY:Ďábel nosí Pradu 2
DTSTART;TZID=Europe/Prague:20260502T150000
DTEND;TZID=Europe/Prague:20260502T170000
LOCATION:Kino Světozor
END:VEVENT
END:VCALENDAR
BEGIN:VCALENDAR
PRODID:-//eluceo/ical//2.0/EN
VERSION:2.0
CALSCALE:GREGORIAN
BEGIN:VEVENT
UID:8a30f6dbca7c78cda9d9955f62703e8e
DTSTAMP:20260425T192943Z
SUMMARY:Ďábel nosí Pradu 2
DTSTART;TZID=Europe/Prague:20260502T150000
DTEND;TZID=Europe/Prague:20260502T170000
LOCATION:Kino Světozor
END:VEVENT
END:VCALENDAR
