BEGIN:VCALENDAR
PRODID:-//eluceo/ical//2.0/EN
VERSION:2.0
CALSCALE:GREGORIAN
BEGIN:VEVENT
UID:fe009774f025b2789d5d9fe0d7069f13
DTSTAMP:20260425T192944Z
SUMMARY:Ďábel nosí Pradu 2
DTSTART;TZID=Europe/Prague:20260503T123000
DTEND;TZID=Europe/Prague:20260503T143000
LOCATION:Kino Světozor
END:VEVENT
END:VCALENDAR
BEGIN:VCALENDAR
PRODID:-//eluceo/ical//2.0/EN
VERSION:2.0
CALSCALE:GREGORIAN
BEGIN:VEVENT
UID:b34ae0f0e4041a371a7c4f0225e9bc9c
DTSTAMP:20260425T192944Z
SUMMARY:Ďábel nosí Pradu 2
DTSTART;TZID=Europe/Prague:20260503T123000
DTEND;TZID=Europe/Prague:20260503T143000
LOCATION:Kino Světozor
END:VEVENT
END:VCALENDAR
