BEGIN:VCALENDAR
PRODID:-//eluceo/ical//2.0/EN
VERSION:2.0
CALSCALE:GREGORIAN
BEGIN:VEVENT
UID:f19efd30195860e1b7b43faeaed00c34
DTSTAMP:20260425T192907Z
SUMMARY:Ďábel nosí Pradu 2
DTSTART;TZID=Europe/Prague:20260504T151500
DTEND;TZID=Europe/Prague:20260504T171500
LOCATION:Kino Světozor
END:VEVENT
END:VCALENDAR
BEGIN:VCALENDAR
PRODID:-//eluceo/ical//2.0/EN
VERSION:2.0
CALSCALE:GREGORIAN
BEGIN:VEVENT
UID:c7a8ee903199e8bfa4fa8d3323868a78
DTSTAMP:20260425T192907Z
SUMMARY:Ďábel nosí Pradu 2
DTSTART;TZID=Europe/Prague:20260504T151500
DTEND;TZID=Europe/Prague:20260504T171500
LOCATION:Kino Světozor
END:VEVENT
END:VCALENDAR
