BEGIN:VCALENDAR
PRODID:-//eluceo/ical//2.0/EN
VERSION:2.0
CALSCALE:GREGORIAN
BEGIN:VEVENT
UID:ff5c5207b2513a7bedd7f8ab764d3bc7
DTSTAMP:20260425T191609Z
SUMMARY:Dva prokurátoři
DTSTART;TZID=Europe/Prague:20260505T100000
DTEND;TZID=Europe/Prague:20260505T115800
LOCATION:Bio Oko
END:VEVENT
END:VCALENDAR
BEGIN:VCALENDAR
PRODID:-//eluceo/ical//2.0/EN
VERSION:2.0
CALSCALE:GREGORIAN
BEGIN:VEVENT
UID:6a03e336a3a959e82cf1bb28aed3bf06
DTSTAMP:20260425T191609Z
SUMMARY:Dva prokurátoři
DTSTART;TZID=Europe/Prague:20260505T100000
DTEND;TZID=Europe/Prague:20260505T115800
LOCATION:Bio Oko
END:VEVENT
END:VCALENDAR
