BEGIN:VCALENDAR
PRODID:-//eluceo/ical//2.0/EN
VERSION:2.0
CALSCALE:GREGORIAN
BEGIN:VEVENT
UID:6e7d5b8b289ba6463f6822fa56c38459
DTSTAMP:20260423T192810Z
SUMMARY:Pan Nikdo proti Putinovi
DTSTART;TZID=Europe/Prague:20260505T130000
DTEND;TZID=Europe/Prague:20260505T143000
LOCATION:Bio Oko
END:VEVENT
END:VCALENDAR
BEGIN:VCALENDAR
PRODID:-//eluceo/ical//2.0/EN
VERSION:2.0
CALSCALE:GREGORIAN
BEGIN:VEVENT
UID:722ea64fc305b20cc9cda09dd7c06225
DTSTAMP:20260423T192810Z
SUMMARY:Pan Nikdo proti Putinovi
DTSTART;TZID=Europe/Prague:20260505T130000
DTEND;TZID=Europe/Prague:20260505T143000
LOCATION:Bio Oko
END:VEVENT
END:VCALENDAR
