BEGIN:VCALENDAR
PRODID:-//eluceo/ical//2.0/EN
VERSION:2.0
CALSCALE:GREGORIAN
BEGIN:VEVENT
UID:a0cd450d4c020026014e5b177f157772
DTSTAMP:20260425T152608Z
SUMMARY:Slepice
DTSTART;TZID=Europe/Prague:20260511T150000
DTEND;TZID=Europe/Prague:20260511T163600
LOCATION:Bio Oko
END:VEVENT
END:VCALENDAR
BEGIN:VCALENDAR
PRODID:-//eluceo/ical//2.0/EN
VERSION:2.0
CALSCALE:GREGORIAN
BEGIN:VEVENT
UID:5e0b680dccb32e4ca818e0bea0998e2c
DTSTAMP:20260425T152608Z
SUMMARY:Slepice
DTSTART;TZID=Europe/Prague:20260511T150000
DTEND;TZID=Europe/Prague:20260511T163600
LOCATION:Bio Oko
END:VEVENT
END:VCALENDAR
