BEGIN:VCALENDAR
PRODID:-//eluceo/ical//2.0/EN
VERSION:2.0
CALSCALE:GREGORIAN
BEGIN:VEVENT
UID:a82fae7e4cd9c56cc5b346f4b73d56ad
DTSTAMP:20260425T152608Z
SUMMARY:Šepot lesa
DTSTART;TZID=Europe/Prague:20260514T150000
DTEND;TZID=Europe/Prague:20260514T163500
LOCATION:Bio Oko
END:VEVENT
END:VCALENDAR
BEGIN:VCALENDAR
PRODID:-//eluceo/ical//2.0/EN
VERSION:2.0
CALSCALE:GREGORIAN
BEGIN:VEVENT
UID:8de454d1f59ea7ddfbff8103fdc259c0
DTSTAMP:20260425T152608Z
SUMMARY:Šepot lesa
DTSTART;TZID=Europe/Prague:20260514T150000
DTEND;TZID=Europe/Prague:20260514T163500
LOCATION:Bio Oko
END:VEVENT
END:VCALENDAR
