BEGIN:VCALENDAR
PRODID:-//eluceo/ical//2.0/EN
VERSION:2.0
CALSCALE:GREGORIAN
BEGIN:VEVENT
UID:4c2efc7220c351267837995fb2566e4d
DTSTAMP:20260425T193030Z
SUMMARY:Ďábel nosí Pradu 2
DTSTART;TZID=Europe/Prague:20260502T201500
DTEND;TZID=Europe/Prague:20260502T221500
LOCATION:Kino Aero
END:VEVENT
END:VCALENDAR
BEGIN:VCALENDAR
PRODID:-//eluceo/ical//2.0/EN
VERSION:2.0
CALSCALE:GREGORIAN
BEGIN:VEVENT
UID:8b557c8061d378f8ea65b338c21422cc
DTSTAMP:20260425T193030Z
SUMMARY:Ďábel nosí Pradu 2
DTSTART;TZID=Europe/Prague:20260502T201500
DTEND;TZID=Europe/Prague:20260502T221500
LOCATION:Kino Aero
END:VEVENT
END:VCALENDAR
