BEGIN:VCALENDAR
PRODID:-//eluceo/ical//2.0/EN
VERSION:2.0
CALSCALE:GREGORIAN
BEGIN:VEVENT
UID:81b3d76ad4c4a2e99f59dc2e0178ed44
DTSTAMP:20260425T154301Z
SUMMARY:Kill Bill: The Whole Bloody Affair
DTSTART;TZID=Europe/Prague:20260524T171500
DTEND;TZID=Europe/Prague:20260524T215000
LOCATION:Kino Aero
END:VEVENT
END:VCALENDAR
BEGIN:VCALENDAR
PRODID:-//eluceo/ical//2.0/EN
VERSION:2.0
CALSCALE:GREGORIAN
BEGIN:VEVENT
UID:285f5cd96ff586d5fef3a8aee3152405
DTSTAMP:20260425T154301Z
SUMMARY:Kill Bill: The Whole Bloody Affair
DTSTART;TZID=Europe/Prague:20260524T171500
DTEND;TZID=Europe/Prague:20260524T215000
LOCATION:Kino Aero
END:VEVENT
END:VCALENDAR
