BEGIN:VCALENDAR
PRODID:-//eluceo/ical//2.0/EN
VERSION:2.0
CALSCALE:GREGORIAN
BEGIN:VEVENT
UID:27992008a33edb572b151608776ab972
DTSTAMP:20260425T193153Z
SUMMARY:Co nám zbylo z lásky
DTSTART;TZID=Europe/Prague:20260517T194500
DTEND;TZID=Europe/Prague:20260517T213400
LOCATION:Kino Aero
END:VEVENT
END:VCALENDAR
BEGIN:VCALENDAR
PRODID:-//eluceo/ical//2.0/EN
VERSION:2.0
CALSCALE:GREGORIAN
BEGIN:VEVENT
UID:32e3761971863aecaef2478e77577e6f
DTSTAMP:20260425T193153Z
SUMMARY:Co nám zbylo z lásky
DTSTART;TZID=Europe/Prague:20260517T194500
DTEND;TZID=Europe/Prague:20260517T213400
LOCATION:Kino Aero
END:VEVENT
END:VCALENDAR
